BEGIN:VCALENDAR
VERSION:2.0
PRODID:-//Better Bike Share - ECPv6.15.12.2//NONSGML v1.0//EN
CALSCALE:GREGORIAN
METHOD:PUBLISH
X-WR-CALNAME:Better Bike Share
X-ORIGINAL-URL:https://betterbikeshare.org
X-WR-CALDESC:Events for Better Bike Share
REFRESH-INTERVAL;VALUE=DURATION:PT1H
X-Robots-Tag:noindex
X-PUBLISHED-TTL:PT1H
BEGIN:VTIMEZONE
TZID:America/Denver
BEGIN:DAYLIGHT
TZOFFSETFROM:-0700
TZOFFSETTO:-0600
TZNAME:MDT
DTSTART:20220313T090000
END:DAYLIGHT
BEGIN:STANDARD
TZOFFSETFROM:-0600
TZOFFSETTO:-0700
TZNAME:MST
DTSTART:20221106T080000
END:STANDARD
BEGIN:DAYLIGHT
TZOFFSETFROM:-0700
TZOFFSETTO:-0600
TZNAME:MDT
DTSTART:20230312T090000
END:DAYLIGHT
BEGIN:STANDARD
TZOFFSETFROM:-0600
TZOFFSETTO:-0700
TZNAME:MST
DTSTART:20231105T080000
END:STANDARD
BEGIN:DAYLIGHT
TZOFFSETFROM:-0700
TZOFFSETTO:-0600
TZNAME:MDT
DTSTART:20240310T090000
END:DAYLIGHT
BEGIN:STANDARD
TZOFFSETFROM:-0600
TZOFFSETTO:-0700
TZNAME:MST
DTSTART:20241103T080000
END:STANDARD
END:VTIMEZONE
BEGIN:VEVENT
DTSTART;VALUE=DATE:20230502
DTEND;VALUE=DATE:20230505
DTSTAMP:20260420T064638
CREATED:20230131T181136Z
LAST-MODIFIED:20230131T181859Z
UID:10000033-1682985600-1683244799@betterbikeshare.org
SUMMARY:2023 National Shared Mobility Summit
DESCRIPTION:To create a platform for collective action and accountability\, SUMC convened the Shared Mobility 2030 Action Agenda which calls on the industry to establish a roadmap to making shared mobility more viable than driving a car. This call comes at an opportune time with the historic passage of the Bipartisan Infrastructure Law and the Inflation Reduction Act. Both offer opportunities to replace car-centric transportation with people-focused shared mobility that fights climate change\, promotes equity\, and strengthens community. \nAs we enter 2023\, this call to action has been all the more pressing. Climate change plagues communities\, traffic deaths remain horrifically high\, and public spaces prioritize personal vehicles. We must build upon and hold ourselves accountable to advance shared mobility. Thus\, this year’s conference theme is “All Together Now: Action + Accountability for People-Focused Mobility.” \nJoin SUMC this year for an opportunity for old and new friends in the shared mobility world to gather and evaluate where we stand on achieving our collective goals. With speeches\, workshops\, panels\, networking\, and field trips\, attendees can learn about best practices in shared mobility that they can implement in their communities.
URL:https://betterbikeshare.org/event/2023-national-shared-mobility-summit/
LOCATION:Merchant Mark Plaza\, W Merchandise Mart Plaza\, Chicago\, IL\, 60654\, United States
ATTACH;FMTTYPE=image/webp:https://betterbikeshare.org/wp-content/uploads/2022/01/SUMC-scaled.webp
ORGANIZER;CN="Shared-Use Mobility Center":MAILTO:info@sharedusemobilitycenter.org
END:VEVENT
BEGIN:VEVENT
DTSTART;VALUE=DATE:20230515
DTEND;VALUE=DATE:20230519
DTSTAMP:20260420T064638
CREATED:20221004T152417Z
LAST-MODIFIED:20230126T195654Z
UID:10000030-1684108800-1684454399@betterbikeshare.org
SUMMARY:Designing Cities 2023: Denver
DESCRIPTION:Now in its eleventh year\, the NACTO Designing Cities Conference brings together 1\,000 officials\, planners\, and practitioners to advance the state of transportation in cities. This will be our first spring conference! We are grateful to our host city\, Denver\, for paving the way (literally) in partnerships — with plenty of examples in the federal\, state\, regional\, and private sector! In gathering as a community\, we want to revisit our commitments made in Fall 2022 in Boston and measure the progress we’ve made in the 9 months since.
URL:https://betterbikeshare.org/event/designing-cities-2023-denver/
LOCATION:DC
ATTACH;FMTTYPE=image/jpeg:https://betterbikeshare.org/wp-content/uploads/2022/10/denver-colorado-DENVERTG0221-20abf6a2611c4bbabefe430569cf48b2-e1664904237760.jpeg
ORGANIZER;CN="National Associtation of City Transportation Officials":MAILTO:events@nacto.org
END:VEVENT
END:VCALENDAR