BEGIN:VCALENDAR
VERSION:2.0
PRODID:-//Better Bike Share - ECPv6.15.12.2//NONSGML v1.0//EN
CALSCALE:GREGORIAN
METHOD:PUBLISH
X-ORIGINAL-URL:https://betterbikeshare.org
X-WR-CALDESC:Events for Better Bike Share
REFRESH-INTERVAL;VALUE=DURATION:PT1H
X-Robots-Tag:noindex
X-PUBLISHED-TTL:PT1H
BEGIN:VTIMEZONE
TZID:America/Denver
BEGIN:DAYLIGHT
TZOFFSETFROM:-0700
TZOFFSETTO:-0600
TZNAME:MDT
DTSTART:20230312T090000
END:DAYLIGHT
BEGIN:STANDARD
TZOFFSETFROM:-0600
TZOFFSETTO:-0700
TZNAME:MST
DTSTART:20231105T080000
END:STANDARD
BEGIN:DAYLIGHT
TZOFFSETFROM:-0700
TZOFFSETTO:-0600
TZNAME:MDT
DTSTART:20240310T090000
END:DAYLIGHT
BEGIN:STANDARD
TZOFFSETFROM:-0600
TZOFFSETTO:-0700
TZNAME:MST
DTSTART:20241103T080000
END:STANDARD
BEGIN:DAYLIGHT
TZOFFSETFROM:-0700
TZOFFSETTO:-0600
TZNAME:MDT
DTSTART:20250309T090000
END:DAYLIGHT
BEGIN:STANDARD
TZOFFSETFROM:-0600
TZOFFSETTO:-0700
TZNAME:MST
DTSTART:20251102T080000
END:STANDARD
END:VTIMEZONE
BEGIN:VEVENT
DTSTART;VALUE=DATE:20240327
DTEND;VALUE=DATE:20240329
DTSTAMP:20260419T171318
CREATED:20231101T135217Z
LAST-MODIFIED:20231101T162508Z
UID:10000039-1711497600-1711670399@betterbikeshare.org
SUMMARY:Smart Growth America's Equity Summit
DESCRIPTION:Save the date for the “2024 Equity Summit: Meeting the Moment.” The Summit gathers housing\, transportation\, and community development advocates and leaders to learn from one another and identify tools to advance racial equity through smart growth. The dynamic two-day program will be held in person for the first time on March 27-28\, 2024\, in Washington\, DC\, at the iconic Martin Luther King Jr. Memorial Library. \nThe Equity Summit will uplift strategies to advance racial equity in smart growth amidst growing political uncertainty in 2024 and beyond\, as well as a shift away from explicit equity initiatives by elected officials\, state agencies\, and the private sector. \n  \nWhy You Should Attend:\nSmart growth practitioners must proactively integrate strategies to advance racial equity into their planning\, transportation\, and land use work\, especially at the current moment. Over the last several years there has been increased attention and investment targeted at inequitable planning systems\, but to date\, these efforts have fallen short of our stated goals. In the face of capacity concerns\, surface-level interventions to systemic challenges\, and the recent Supreme Court decision effectively ending affirmative action\, our movement is at a critical inflection moment. \nWhat to Expect:\nThe event aims to connect movement leaders\, identify key needs within the field\, and build a community of mutual support and encouragement among practitioners who may be discouraged by resistance to meaningful progress. At the Equity Summit\, we’ll present keynotes\, fireside chats\, panel discussions\, small group sessions\, and local organization “field trips.” These activities will allow participants to gain insights into the successes and challenges of racial equity projects in the smart growth space\, emphasizing cultural organizing\, lived experience integration\, and inclusive wealth building. \n 
URL:https://betterbikeshare.org/event/smart-growth-americas-equity-summit-meeting-the-moment/
LOCATION:MLK Jr. Memorial Library\, 901 G St NW\, Washington\, D.C.\, DC\, 20001\, United States
ATTACH;FMTTYPE=image/png:https://betterbikeshare.org/wp-content/uploads/2023/11/ES_Save-the-Date-1536x922-1-e1698863093678.png
ORGANIZER;CN="Smarth Growth America":MAILTO:media@smartgrowthamerica.org
END:VEVENT
END:VCALENDAR