BEGIN:VCALENDAR
VERSION:2.0
PRODID:-//Better Bike Share - ECPv6.15.12.2//NONSGML v1.0//EN
CALSCALE:GREGORIAN
METHOD:PUBLISH
X-WR-CALNAME:Better Bike Share
X-ORIGINAL-URL:https://betterbikeshare.org
X-WR-CALDESC:Events for Better Bike Share
REFRESH-INTERVAL;VALUE=DURATION:PT1H
X-Robots-Tag:noindex
X-PUBLISHED-TTL:PT1H
BEGIN:VTIMEZONE
TZID:America/Denver
BEGIN:DAYLIGHT
TZOFFSETFROM:-0700
TZOFFSETTO:-0600
TZNAME:MDT
DTSTART:20210314T090000
END:DAYLIGHT
BEGIN:STANDARD
TZOFFSETFROM:-0600
TZOFFSETTO:-0700
TZNAME:MST
DTSTART:20211107T080000
END:STANDARD
BEGIN:DAYLIGHT
TZOFFSETFROM:-0700
TZOFFSETTO:-0600
TZNAME:MDT
DTSTART:20220313T090000
END:DAYLIGHT
BEGIN:STANDARD
TZOFFSETFROM:-0600
TZOFFSETTO:-0700
TZNAME:MST
DTSTART:20221106T080000
END:STANDARD
BEGIN:DAYLIGHT
TZOFFSETFROM:-0700
TZOFFSETTO:-0600
TZNAME:MDT
DTSTART:20230312T090000
END:DAYLIGHT
BEGIN:STANDARD
TZOFFSETFROM:-0600
TZOFFSETTO:-0700
TZNAME:MST
DTSTART:20231105T080000
END:STANDARD
END:VTIMEZONE
BEGIN:VEVENT
DTSTART;VALUE=DATE:20221025
DTEND;VALUE=DATE:20221028
DTSTAMP:20260420T172320
CREATED:20220311T170102Z
LAST-MODIFIED:20220921T142656Z
UID:10000029-1666656000-1666915199@betterbikeshare.org
SUMMARY:¡Vamos! Let's Go: Defining the Future of Micromobility Together
DESCRIPTION:For the first time ever\, the North American Bikeshare and Scootershare’s annual conference will be held in Latin America. Mark your calendars — we’ll fill in more details here as they become available.
URL:https://betterbikeshare.org/event/vamos-lets-go-defining-the-future-of-micromobility-together/
LOCATION:DC
ATTACH;FMTTYPE=image/jpeg:https://betterbikeshare.org/wp-content/uploads/2022/03/VAMOS.jpeg
ORGANIZER;CN="North American Bikeshare & Scootershare Association":MAILTO:hello@nabsa.net
END:VEVENT
END:VCALENDAR