BEGIN:VCALENDAR
VERSION:2.0
PRODID:-//Better Bike Share - ECPv6.15.12.2//NONSGML v1.0//EN
CALSCALE:GREGORIAN
METHOD:PUBLISH
X-ORIGINAL-URL:https://betterbikeshare.org
X-WR-CALDESC:Events for Better Bike Share
REFRESH-INTERVAL;VALUE=DURATION:PT1H
X-Robots-Tag:noindex
X-PUBLISHED-TTL:PT1H
BEGIN:VTIMEZONE
TZID:America/Denver
BEGIN:DAYLIGHT
TZOFFSETFROM:-0700
TZOFFSETTO:-0600
TZNAME:MDT
DTSTART:20210314T090000
END:DAYLIGHT
BEGIN:STANDARD
TZOFFSETFROM:-0600
TZOFFSETTO:-0700
TZNAME:MST
DTSTART:20211107T080000
END:STANDARD
BEGIN:DAYLIGHT
TZOFFSETFROM:-0700
TZOFFSETTO:-0600
TZNAME:MDT
DTSTART:20220313T090000
END:DAYLIGHT
BEGIN:STANDARD
TZOFFSETFROM:-0600
TZOFFSETTO:-0700
TZNAME:MST
DTSTART:20221106T080000
END:STANDARD
BEGIN:DAYLIGHT
TZOFFSETFROM:-0700
TZOFFSETTO:-0600
TZNAME:MDT
DTSTART:20230312T090000
END:DAYLIGHT
BEGIN:STANDARD
TZOFFSETFROM:-0600
TZOFFSETTO:-0700
TZNAME:MST
DTSTART:20231105T080000
END:STANDARD
END:VTIMEZONE
BEGIN:VEVENT
DTSTART;TZID=America/Denver:20220915T080000
DTEND;TZID=America/Denver:20220916T170000
DTSTAMP:20260420T185553
CREATED:20220607T181952Z
LAST-MODIFIED:20220607T181952Z
UID:10000026-1663228800-1663347600@betterbikeshare.org
SUMMARY:Micromobility America
DESCRIPTION:Join micromobility’s top global builders\, thinkers\, and leaders in the world capital of tech.\nConnect with everyone in the industry you need to meet over the course of two days\, from founders and investors\, to policymakers and journalists. Browse best-in-class solutions from both up-and-coming startups and established players that are transforming the entire urban mobility ecosystem. Join industry insiders as they share announcements\, insights\, and analysis. Past speakers include Kara Swisher\, Benedict Evans\, Travis VanderZanden\, Janette Sadik-Khan\, Andrew Yang\, and more.
URL:https://betterbikeshare.org/event/micromobility-america/
LOCATION:Craneway Pavillion\, 1414 Harbour Way S\, Richmond\, CA\, 94804\, United States
ATTACH;FMTTYPE=image/png:https://betterbikeshare.org/wp-content/uploads/2022/06/mm_yellow_black.png
END:VEVENT
END:VCALENDAR